Workbook

Sheet Sheet2
A4: STT | B4: HỌ TÊN | D4: CHỨC VỤ | E4: 2015 | H4: 2016 | K4: 2017 | N4: 2018 | Q4: 2019 | T4: 2020
E5: BẬC | F5: HỆ SỐ | G5: CHUẨN GD | H5: BẬC | I5: HỆ SỐ | J5: CHUẨN GD | K5: BẬC | L5: HỆ SỐ | M5: CHUẨN GD | N5: BẬC | O5: HỆ SỐ | P5: CHUẨN GD | Q5: BẬC | R5: HỆ SỐ | S5: CHUẨN GD | T5: BẬC | U5: HỆ SỐ | V5: CHUẨN GD
A6: 1 | B6: Nguyễn Vân | C6: Giang | D6: Trưởng khoa | E6: 6 | F6: =VLOOKUP(E6,Sheet3!$G$6:$I$14,2) -> 5.7 | G6: =VLOOKUP(E6,Sheet3!$G$6:$I$14,3) -> 320 | H6: 6 | I6: =VLOOKUP(H6,Sheet3!$G$6:$I$14,2) -> 5.7 | J6: =VLOOKUP(H6,Sheet3!$G$6:$I$14,3) -> 320 | K6: 6 | L6: =VLOOKUP(K6,Sheet3!$G$6:$I$14,2) -> 5.7 | M6: =VLOOKUP(K6,Sheet3!$G$6:$I$14,3) -> 320 | N6: 7 | O6: =VLOOKUP(N6,Sheet3!$G$6:$I$14,2) -> 6.04 | P6: =VLOOKUP(N6,Sheet3!$G$6:$I$14,3) -> 320 | Q6: 7 | R6: =VLOOKUP(Q6,Sheet3!$G$6:$I$14,2) -> 6.04 | S6: =VLOOKUP(Q6,Sheet3!$G$6:$I$14,3) -> 320 | T6: 7 | U6: =VLOOKUP(T6,Sheet3!$G$6:$I$14,2) -> 6.04 | V6: =VLOOKUP(T6,Sheet3!$G$6:$I$14,3) -> 320
A7: 2 | B7: Nguyễn Văn | C7: Minh | D7: Tổ trưởng CM | E7: 3 | F7: =VLOOKUP(E7,Sheet3!$B$6:$D$14,2) -> 3 | G7: =VLOOKUP(E7,Sheet3!$B$6:$D$14,3) -> 260 | H7: 3 | I7: =VLOOKUP(H7,Sheet3!$B$6:$D$14,2) -> 3 | J7: =VLOOKUP(H7,Sheet3!$B$6:$D$14,3) -> 260 | K7: 3 | L7: =VLOOKUP(K7,Sheet3!$B$6:$D$14,2) -> 3 | M7: =VLOOKUP(K7,Sheet3!$B$6:$D$14,3) -> 260 | N7: 4 | O7: =VLOOKUP(N7,Sheet3!$B$6:$D$14,2) -> 3.33 | P7: =VLOOKUP(N7,Sheet3!$B$6:$D$14,3) -> 290 | Q7: 4 | R7: =VLOOKUP(Q7,Sheet3!$B$6:$D$14,2) -> 3.33 | S7: =VLOOKUP(Q7,Sheet3!$B$6:$D$14,3) -> 290 | T7: 4 | U7: =VLOOKUP(T7,Sheet3!$B$6:$D$14,2) -> 3.33 | V7: =VLOOKUP(T7,Sheet3!$B$6:$D$14,3) -> 290
A8: 3 | B8: Vũ Thị Thái | C8: Linh | D8: GV | E8: 3 | F8: =VLOOKUP(E8,Sheet3!$B$6:$D$14,2) -> 3 | G8: =VLOOKUP(E8,Sheet3!$B$6:$D$14,3) -> 260 | H8: 4 | I8: =VLOOKUP(H8,Sheet3!$B$6:$D$14,2) -> 3.33 | J8: =VLOOKUP(H8,Sheet3!$B$6:$D$14,3) -> 290 | K8: 4 | L8: =VLOOKUP(K8,Sheet3!$B$6:$D$14,2) -> 3.33 | M8: =VLOOKUP(K8,Sheet3!$B$6:$D$14,3) -> 290 | N8: 4 | O8: =VLOOKUP(N8,Sheet3!$B$6:$D$14,2) -> 3.33 | P8: =VLOOKUP(N8,Sheet3!$B$6:$D$14,3) -> 290 | Q8: 5 | R8: =VLOOKUP(Q8,Sheet3!$B$6:$D$14,2) -> 3.66 | S8: =VLOOKUP(Q8,Sheet3!$B$6:$D$14,3) -> 290 | T8: 5 | U8: =VLOOKUP(T8,Sheet3!$B$6:$D$14,2) -> 3.66 | V8: =VLOOKUP(T8,Sheet3!$B$6:$D$14,3) -> 290
A9: 4 | B9: Nguyễn Văn | C9: Danh | D9: GV | E9: 2 | F9: =VLOOKUP(E9,Sheet3!$B$6:$D$14,2) -> 2.67 | G9: =VLOOKUP(E9,Sheet3!$B$6:$D$14,3) -> 260 | H9: 3 | I9: =VLOOKUP(H9,Sheet3!$B$6:$D$14,2) -> 3 | J9: =VLOOKUP(H9,Sheet3!$B$6:$D$14,3) -> 260 | K9: 3 | L9: =VLOOKUP(K9,Sheet3!$B$6:$D$14,2) -> 3 | M9: =VLOOKUP(K9,Sheet3!$B$6:$D$14,3) -> 260 | N9: 3 | O9: =VLOOKUP(N9,Sheet3!$B$6:$D$14,2) -> 3 | P9: =VLOOKUP(N9,Sheet3!$B$6:$D$14,3) -> 260 | Q9: 4 | R9: =VLOOKUP(Q9,Sheet3!$B$6:$D$14,2) -> 3.33 | S9: =VLOOKUP(Q9,Sheet3!$B$6:$D$14,3) -> 290 | T9: 4 | U9: =VLOOKUP(T9,Sheet3!$B$6:$D$14,2) -> 3.33 | V9: =VLOOKUP(T9,Sheet3!$B$6:$D$14,3) -> 290
A10: 5 | B10: Nguyễn | C10: Khoa | D10: Phó khoa | E10: 5 | F10: =VLOOKUP(E10,Sheet3!$B$6:$D$14,2) -> 3.66 | G10: =VLOOKUP(E10,Sheet3!$B$6:$D$14,3) -> 290 | H10: 6 | I10: =VLOOKUP(H10,Sheet3!$B$6:$D$14,2) -> 3.99 | J10: =VLOOKUP(H10,Sheet3!$B$6:$D$14,3) -> 290 | K10: 6 | L10: =VLOOKUP(K10,Sheet3!$B$6:$D$14,2) -> 3.99 | M10: =VLOOKUP(K10,Sheet3!$B$6:$D$14,3) -> 290 | N10: 6 | O10: =VLOOKUP(N10,Sheet3!$B$6:$D$14,2) -> 3.99 | P10: =VLOOKUP(N10,Sheet3!$B$6:$D$14,3) -> 290 | Q10: 7 | R10: =VLOOKUP(Q10,Sheet3!$B$6:$D$14,2) -> 4.32 | S10: =VLOOKUP(Q10,Sheet3!$B$6:$D$14,3) -> 310 | T10: 7 | U10: =VLOOKUP(T10,Sheet3!$B$6:$D$14,2) -> 4.32 | V10: =VLOOKUP(T10,Sheet3!$B$6:$D$14,3) -> 310
A11: 6 | B11: Nguyễn Thị | C11: Thủy | D11: Tổ trưởng CM | E11: 4 | F11: =VLOOKUP(E11,Sheet3!$B$6:$D$14,2) -> 3.33 | G11: =VLOOKUP(E11,Sheet3!$B$6:$D$14,3) -> 290 | H11: 5 | I11: =VLOOKUP(H11,Sheet3!$B$6:$D$14,2) -> 3.66 | J11: =VLOOKUP(H11,Sheet3!$B$6:$D$14,3) -> 290 | K11: 5 | L11: =VLOOKUP(K11,Sheet3!$B$6:$D$14,2) -> 3.66 | M11: =VLOOKUP(K11,Sheet3!$B$6:$D$14,3) -> 290 | N11: 5 | O11: =VLOOKUP(N11,Sheet3!$B$6:$D$14,2) -> 3.66 | P11: =VLOOKUP(N11,Sheet3!$B$6:$D$14,3) -> 290 | Q11: 6 | R11: =VLOOKUP(Q11,Sheet3!$B$6:$D$14,2) -> 3.99 | S11: =VLOOKUP(Q11,Sheet3!$B$6:$D$14,3) -> 290 | T11: 6 | U11: =VLOOKUP(T11,Sheet3!$B$6:$D$14,2) -> 3.99 | V11: =VLOOKUP(T11,Sheet3!$B$6:$D$14,3) -> 290
A12: 7 | B12: Nguyễn Thị Thu | C12: Hồng | D12: GV | E12: 3 | F12: =VLOOKUP(E12,Sheet3!$B$6:$D$14,2) -> 3 | G12: =VLOOKUP(E12,Sheet3!$B$6:$D$14,3) -> 260 | H12: 3 | I12: =VLOOKUP(H12,Sheet3!$B$6:$D$14,2) -> 3 | J12: =VLOOKUP(H12,Sheet3!$B$6:$D$14,3) -> 260 | K12: 3 | L12: =VLOOKUP(K12,Sheet3!$B$6:$D$14,2) -> 3 | M12: =VLOOKUP(K12,Sheet3!$B$6:$D$14,3) -> 260 | N12: 4 | O12: =VLOOKUP(N12,Sheet3!$B$6:$D$14,2) -> 3.33 | P12: =VLOOKUP(N12,Sheet3!$B$6:$D$14,3) -> 290 | Q12: 4 | R12: =VLOOKUP(Q12,Sheet3!$B$6:$D$14,2) -> 3.33 | S12: =VLOOKUP(Q12,Sheet3!$B$6:$D$14,3) -> 290 | T12: 4 | U12: =VLOOKUP(T12,Sheet3!$B$6:$D$14,2) -> 3.33 | V12: =VLOOKUP(T12,Sheet3!$B$6:$D$14,3) -> 290
A13: 8 | B13: Lê Hồng | C13: Thái | D13: GV | E13: 3 | F13: =VLOOKUP(E13,Sheet3!$B$6:$D$14,2) -> 3 | G13: =VLOOKUP(E13,Sheet3!$B$6:$D$14,3) -> 260 | H13: 3 | I13: =VLOOKUP(H13,Sheet3!$B$6:$D$14,2) -> 3 | J13: =VLOOKUP(H13,Sheet3!$B$6:$D$14,3) -> 260 | K13: 3 | L13: =VLOOKUP(K13,Sheet3!$B$6:$D$14,2) -> 3 | M13: =VLOOKUP(K13,Sheet3!$B$6:$D$14,3) -> 260 | N13: 4 | O13: =VLOOKUP(N13,Sheet3!$B$6:$D$14,2) -> 3.33 | P13: =VLOOKUP(N13,Sheet3!$B$6:$D$14,3) -> 290 | Q13: 4 | R13: =VLOOKUP(Q13,Sheet3!$B$6:$D$14,2) -> 3.33 | S13: =VLOOKUP(Q13,Sheet3!$B$6:$D$14,3) -> 290 | T13: 4 | U13: =VLOOKUP(T13,Sheet3!$B$6:$D$14,2) -> 3.33 | V13: =VLOOKUP(T13,Sheet3!$B$6:$D$14,3) -> 290
A14: 9 | B14: Nguyễn Thị Khánh | C14: Thư | D14: GV | E14: 3 | F14: =VLOOKUP(E14,Sheet3!$B$6:$D$14,2) -> 3 | G14: =VLOOKUP(E14,Sheet3!$B$6:$D$14,3) -> 260 | H14: 3 | I14: =VLOOKUP(H14,Sheet3!$B$6:$D$14,2) -> 3 | J14: =VLOOKUP(H14,Sheet3!$B$6:$D$14,3) -> 260 | K14: 4 | L14: =VLOOKUP(K14,Sheet3!$B$6:$D$14,2) -> 3.33 | M14: =VLOOKUP(K14,Sheet3!$B$6:$D$14,3) -> 290 | N14: 4 | O14: =VLOOKUP(N14,Sheet3!$B$6:$D$14,2) -> 3.33 | P14: =VLOOKUP(N14,Sheet3!$B$6:$D$14,3) -> 290 | Q14: 4 | R14: =VLOOKUP(Q14,Sheet3!$B$6:$D$14,2) -> 3.33 | S14: =VLOOKUP(Q14,Sheet3!$B$6:$D$14,3) -> 290 | T14: 4 | U14: =VLOOKUP(T14,Sheet3!$B$6:$D$14,2) -> 3.33 | V14: =VLOOKUP(T14,Sheet3!$B$6:$D$14,3) -> 290
A15: 10 | B15: Nguyễn Sanh | C15: Cường | D15: Tổ trưởng CM | E15: 3 | F15: =VLOOKUP(E15,Sheet3!$B$6:$D$14,2) -> 3 | G15: =VLOOKUP(E15,Sheet3!$B$6:$D$14,3) -> 260 | H15: 3 | I15: =VLOOKUP(H15,Sheet3!$B$6:$D$14,2) -> 3 | J15: =VLOOKUP(H15,Sheet3!$B$6:$D$14,3) -> 260 | K15: 4 | L15: =VLOOKUP(K15,Sheet3!$B$6:$D$14,2) -> 3.33 | M15: =VLOOKUP(K15,Sheet3!$B$6:$D$14,3) -> 290 | N15: 4 | O15: =VLOOKUP(N15,Sheet3!$B$6:$D$14,2) -> 3.33 | P15: =VLOOKUP(N15,Sheet3!$B$6:$D$14,3) -> 290 | Q15: 4 | R15: =VLOOKUP(Q15,Sheet3!$B$6:$D$14,2) -> 3.33 | S15: =VLOOKUP(Q15,Sheet3!$B$6:$D$14,3) -> 290 | T15: 5 | U15: =VLOOKUP(T15,Sheet3!$B$6:$D$14,2) -> 3.66 | V15: =VLOOKUP(T15,Sheet3!$B$6:$D$14,3) -> 290
A16: 11 | B16: Võ Anh | C16: Trang | D16: GV | E16: 4 | F16: =VLOOKUP(E16,Sheet3!$B$6:$D$14,2) -> 3.33 | G16: =VLOOKUP(E16,Sheet3!$B$6:$D$14,3) -> 290 | H16: 4 | I16: =VLOOKUP(H16,Sheet3!$B$6:$D$14,2) -> 3.33 | J16: =VLOOKUP(H16,Sheet3!$B$6:$D$14,3) -> 290 | K16: 4 | L16: =VLOOKUP(K16,Sheet3!$B$6:$D$14,2) -> 3.33 | M16: =VLOOKUP(K16,Sheet3!$B$6:$D$14,3) -> 290 | N16: 5 | O16: =VLOOKUP(N16,Sheet3!$B$6:$D$14,2) -> 3.66 | P16: =VLOOKUP(N16,Sheet3!$B$6:$D$14,3) -> 290 | Q16: 5 | R16: =VLOOKUP(Q16,Sheet3!$B$6:$D$14,2) -> 3.66 | S16: =VLOOKUP(Q16,Sheet3!$B$6:$D$14,3) -> 290 | T16: 5 | U16: =VLOOKUP(T16,Sheet3!$B$6:$D$14,2) -> 3.66 | V16: =VLOOKUP(T16,Sheet3!$B$6:$D$14,3) -> 290
A17: 12 | B17: Ng Ng Hoàng Ngọc | C17: Quyên | D17: GV | E17: 4 | F17: =VLOOKUP(E17,Sheet3!$B$6:$D$14,2) -> 3.33 | G17: =VLOOKUP(E17,Sheet3!$B$6:$D$14,3) -> 290 | H17: 4 | I17: =VLOOKUP(H17,Sheet3!$B$6:$D$14,2) -> 3.33 | J17: =VLOOKUP(H17,Sheet3!$B$6:$D$14,3) -> 290 | K17: 4 | L17: =VLOOKUP(K17,Sheet3!$B$6:$D$14,2) -> 3.33 | M17: =VLOOKUP(K17,Sheet3!$B$6:$D$14,3) -> 290 | N17: 5 | O17: =VLOOKUP(N17,Sheet3!$B$6:$D$14,2) -> 3.66 | P17: =VLOOKUP(N17,Sheet3!$B$6:$D$14,3) -> 290 | Q17: 5 | R17: =VLOOKUP(Q17,Sheet3!$B$6:$D$14,2) -> 3.66 | S17: =VLOOKUP(Q17,Sheet3!$B$6:$D$14,3) -> 290 | T17: 5 | U17: =VLOOKUP(T17,Sheet3!$B$6:$D$14,2) -> 3.66 | V17: =VLOOKUP(T17,Sheet3!$B$6:$D$14,3) -> 290
A18: 13 | B18: Trần Việt | C18: Khánh | D18: GV | E18: 3 | F18: =VLOOKUP(E18,Sheet3!$B$6:$D$14,2) -> 3 | G18: =VLOOKUP(E18,Sheet3!$B$6:$D$14,3) -> 260 | H18: 3 | I18: =VLOOKUP(H18,Sheet3!$B$6:$D$14,2) -> 3 | J18: =VLOOKUP(H18,Sheet3!$B$6:$D$14,3) -> 260 | K18: 3 | L18: =VLOOKUP(K18,Sheet3!$B$6:$D$14,2) -> 3 | M18: =VLOOKUP(K18,Sheet3!$B$6:$D$14,3) -> 260 | N18: 4 | O18: =VLOOKUP(N18,Sheet3!$B$6:$D$14,2) -> 3.33 | P18: =VLOOKUP(N18,Sheet3!$B$6:$D$14,3) -> 290 | Q18: 4 | R18: =VLOOKUP(Q18,Sheet3!$B$6:$D$14,2) -> 3.33 | S18: =VLOOKUP(Q18,Sheet3!$B$6:$D$14,3) -> 290 | T18: 4 | U18: =VLOOKUP(T18,Sheet3!$B$6:$D$14,2) -> 3.33 | V18: =VLOOKUP(T18,Sheet3!$B$6:$D$14,3) -> 290
... A29: 24 | B29: Nguyễn Ngọc | C29: Tuyên | D29: GV | E29: 1 | F29: =VLOOKUP(E29,Sheet3!$B$6:$D$14,2) -> 2.34 | G29: =VLOOKUP(E29,Sheet3!$B$6:$D$14,3) -> 260 | H29: 2 | I29: =VLOOKUP(H29,Sheet3!$B$6:$D$14,2) -> 2.67 | J29: =VLOOKUP(H29,Sheet3!$B$6:$D$14,3) -> 260 | K29: 2 | L29: =VLOOKUP(K29,Sheet3!$B$6:$D$14,2) -> 2.67 | M29: =VLOOKUP(K29,Sheet3!$B$6:$D$14,3) -> 260 | N29: 2 | O29: =VLOOKUP(N29,Sheet3!$B$6:$D$14,2) -> 2.67 | P29: =VLOOKUP(N29,Sheet3!$B$6:$D$14,3) -> 260 | Q29: 3 | R29: =VLOOKUP(Q29,Sheet3!$B$6:$D$14,2) -> 3 | S29: =VLOOKUP(Q29,Sheet3!$B$6:$D$14,3) -> 260 | T29: 3 | U29: =VLOOKUP(T29,Sheet3!$B$6:$D$14,2) -> 3 | V29: =VLOOKUP(T29,Sheet3!$B$6:$D$14,3) -> 260

Sheet Sheet3
B4: 15.111 | G4: 15.112
B5: BẬC | C5: HỆ SỐ | D5: CHUẨN | G5: BẬC | H5: HỆ SỐ | I5: CHUẨN
B6: 1 | C6: 2.34 | D6: 260 | G6: 1 | H6: 4 | I6: 320
B7: 2 | C7: 2.67 | D7: 260 | G7: 2 | H7: 4.34 | I7: 320
B8: 3 | C8: 3 | D8: 260 | G8: 3 | H8: 4.68 | I8: 320
B9: 4 | C9: 3.33 | D9: 290 | G9: 4 | H9: 5.02 | I9: 320
B10: 5 | C10: 3.66 | D10: 290 | G10: 5 | H10: 5.36 | I10: 320
B11: 6 | C11: 3.99 | D11: 290 | G11: 6 | H11: 5.7 | I11: 320
B12: 7 | C12: 4.32 | D12: 310 | G12: 7 | H12: 6.04 | I12: 320
B13: 8 | C13: 4.65 | D13: 310 | G13: 8 | H13: 6.38 | I13: 320
B14: 9 | C14: 4.98 | D14: 310 | G14: 9 | H14: VK 5% | I14: 320

Sheet CNTT
A2: TRƯỜNG CAO ĐẢNG KỸ THUẬT LÝ TỰ TRỌNG
A3: PHÒNG TỔ CHỨC - HÀNH CHÍNH - TỔNG HỢP
A5: DANH SÁCH HỆ SỐ LƯƠNG GIẢNG VIÊN
A7: 1050000
A8: STT | B8: HỌ VÀ TÊN | C8: CHỨC VỤ | D8: MÃ NGẠCH | E8: LOẠI VC | F8: BẬC | G8: BẬC LƯƠNG | H8: HỆ SỐ | I8: TIỀN LƯƠNG | J8: PC VƯỢT KHUNG | M8: PC CHỨC VỤ | O8: TỔNG HSL | P8: GHI CHÚ
J9: % | K9: hide | L9: THÀNH TIỀN | M9: HỆ SỐ | N9: THÀNH TIỀN
A10: 1 | B10: 2 | D10: 3 | E10: 4 | F10: 5 | H10: 6 | I10: 7 | J10: 8 | L10: 9 | M10: 10 | N10: 11
A11: 1 | B11: Nguyễn Vân Giang | C11: Trưởng khoa | D11: 15.112 | E11: A2.2 | F11: 4 | G11: 5 | H11: 5.36 | I11: 5271000 | K11: 0 | L11: 0 | M11: 0.45 | N11: 472500 | O11: =H11+K11+M11 -> 5.81
A12: 2 | B12: Nguyễn Khoa | C12: Phó khoa | D12: 15.111 | E12: A1 | F12: 4 | G12: 5 | H12: 3.66 | I12: 3496500 | K12: 0 | L12: 0 | M12: 0.35 | N12: 367500 | O12: =H12+K12+M12 -> 4.01 | P12: 41518
A13: 3 | B13: Nguyễn Thị Thủy | C13: Tổ trưởng CM | D13: 15.111 | E13: A1 | F13: 2 | G13: 4 | H13: 3.33 | I13: 2803500 | K13: 0 | L13: 0 | M13: 0.25 | N13: 0 | O13: =H13+K13+M13 -> 3.58 | P13: 41518
A14: 4 | B14: Nguyễn Sanh Cường | C14: Tổ trưởng CM | D14: 15.111 | E14: A1 | F14: 2 | G14: 3 | H14: 3 | I14: 2803500 | K14: 0 | L14: 0 | M14: 0.25 | N14: 262500 | O14: =H14+K14+M14 -> 3.25 | P14: 41883
A15: 5 | B15: Lê Quý Hưng Quốc | C15: Tổ trưởng CM | D15: 15.111 | E15: A1 | F15: 2 | G15: 3 | H15: 3 | I15: 2803500 | K15: 0 | L15: 0 | M15: 0.25 | N15: 262500 | O15: =H15+K15+M15 -> 3.25 | P15: 41518
A16: 6 | B16: Nguyễn Văn Minh | C16: Tổ trưởng CM | D16: 15.111 | E16: A1 | F16: 1 | G16: 2 | H16: 2.67 | I16: 2457000 | K16: 0 | L16: 0 | M16: 0.25 | N16: 262500 | O16: =H16+K16+M16 -> 2.92
A17: 7 | B17: Lê Tất Đạt | C17: GV | D17: 15.111 | E17: A1 | F17: 3 | G17: 4 | H17: 3.33 | I17: 3150000 | K17: 0 | L17: 0 | N17: 0 | O17: =H17+K17+M17 -> 3.33 | P17: 41883
A18: 8 | B18: Dương Ngọc Vọng | C18: GV | D18: 15.111 | E18: A1 | F18: 2 | G18: 3 | H18: 3 | I18: 2803500 | K18: 0 | L18: 0 | N18: 0 | O18: =H18+K18+M18 -> 3 | P18: 41548
A19: 9 | B19: Nguyễn Nguyên Hoàng Ngọc Quyên | C19: GV | D19: 15.111 | E19: A1 | F19: 2 | G19: 3 | H19: 3 | I19: 2803500 | K19: 0 | L19: 0 | N19: 0 | O19: =H19+K19+M19 -> 3
A20: 10 | B20: Võ Anh Trang | C20: GV | D20: 15.111 | E20: A1 | F20: 2 | G20: 3 | H20: 3 | I20: 2803500 | K20: 0 | L20: 0 | N20: 0 | O20: =H20+K20+M20 -> 3
A21: 11 | B21: Vũ Thị Thái Linh | C21: GV | D21: 15.111 | E21: A1 | F21: 2 | G21: 3 | H21: 3 | I21: 2803500 | K21: 0 | L21: 0 | N21: 0 | O21: =H21+K21+M21 -> 3 | P21: 41518
A22: 12 | B22: Nguyễn Thị Khánh Thư | C22: GV | D22: 15.111 | E22: A1 | F22: 2 | G22: 2 | H22: 2.67 | I22: 2803500 | K22: 0 | L22: 0 | N22: 0 | O22: =H22+K22+M22 -> 2.67
A23: 13 | B23: Lê Phi Trường | C23: GV | D23: 15.111 | E23: A1 | F23: 1 | G23: 2 | H23: 2.67 | I23: 2457000 | L23: 0 | N23: 0 | O23: =H23+K23+M23 -> 2.67
A24: 14 | B24: Bùi Văn Dũng | C24: GV | D24: 15.111 | E24: A1 | F24: 1 | G24: 2 | H24: 2.67 | I24: 2457000 | K24: 0 | L24: 0 | N24: 0 | O24: =H24+K24+M24 -> 2.67
A25: 15 | B25: Lê Hồng Thái | C25: GV | D25: 15.111 | E25: A1 | F25: 1 | G25: 2 | H25: 2.67 | I25: 2457000 | K25: 0 | L25: 0 | N25: 0 | O25: =H25+K25+M25 -> 2.67
A26: 16 | B26: Đỗ Thị Hải Yến | C26: GV | D26: 15.111 | E26: A1 | F26: 1 | G26: 2 | H26: 2.67 | I26: 2457000 | K26: 0 | L26: 0 | N26: 0 | O26: =H26+K26+M26 -> 2.67
A27: 17 | B27: Trần Việt Khánh | C27: GV | D27: 15.111 | E27: A1 | F27: 1 | G27: 2 | H27: 2.67 | I27: 2457000 | K27: 0 | L27: 0 | N27: 0 | O27: =H27+K27+M27 -> 2.67
A28: 18 | B28: Nguyễn Thị Thu Hồng | C28: GV | D28: 15.111 | E28: A1 | F28: 1 | G28: 2 | H28: 2.67 | I28: 2457000 | K28: 0 | L28: 0 | N28: 0 | O28: =H28+K28+M28 -> 2.67
A29: 19 | B29: Đặng Ngọc Đoàn | C29: GV | D29: 15.111 | E29: A1 | F29: 1 | G29: 2 | H29: 2.67 | I29: 2457000 | K29: 0 | L29: 0 | N29: 0 | O29: =H29+K29+M29 -> 2.67
A30: 20 | B30: Nguyễn Văn Đôn | C30: GV | D30: 15111 | E30: A1 | F30: 1 | G30: 2 | H30: 2.67 | I30: 2457000 | K30: 0 | L30: 0 | N30: 0 | O30: =H30+K30+M30 -> 2.67 | P30: 41518
A31: 21 | B31: Nguyễn Văn Danh | C31: GV | D31: 15.111 | E31: A1 | F31: 1 | G31: 2 | H31: 2.67 | I31: 2457000 | K31: 0 | L31: 0 | N31: 0 | O31: =H31+K31+M31 -> 2.67 | P31: 41518
A32: 22 | B32: Lâm Thanh Hùng | C32: GV | G32: 1 | H32: 2.34
A33: 23 | B33: Lê Phi Trường | C33: GV | G33: 2 | H33: 2.67
A34: 24 | B34: Trần Vĩnh Xuyên | C34: Phoó tổ trưởng CM | G34: 2 | H34: 2.67
A35: 25 | B35: Nguyễn Ngọc Tuyên | C35: GV | G35: 1 | H35: 2.34
A36: 26 | B36: Nguyễn Tất Thắng | C36: NV | D36: 15.111 | E36: A1 | F36: 3 | G36: 4 | H36: 3.33 | I36: 3150000 | K36: 0 | L36: 0 | N36: 262500 | O36: =H36+K36+M36 -> 3.33 | P36: 41518
A37: 27 | B37: Trương Hữu Lộc | C37: NV | G37: 1 | H37: 2.34
A38: 28 | B38: Lý Dạ Lan | C38: NV | G38: 1 | H38: 2.1
A39: 29 | B39: Đào Duy Long | C39: NV | G39: 1 | H39: 2.1
A40: 30 | B40: Hồng Thị Diễm My | C40: NV | G40: 1 | H40: 2.1
